BEGIN:VCALENDAR
VERSION:2.0
PRODID:-//Software &amp; Services for Timber Engineering | TimberTech - ECPv4.9.4//NONSGML v1.0//EN
CALSCALE:GREGORIAN
METHOD:PUBLISH
X-WR-CALNAME:Software &amp; Services for Timber Engineering | TimberTech
X-ORIGINAL-URL:https://en.timbertech.eu
X-WR-CALDESC:Events for Software &amp; Services for Timber Engineering | TimberTech
BEGIN:VTIMEZONE
TZID:"Europe/Rome"
BEGIN:DAYLIGHT
TZOFFSETFROM:+0100
TZOFFSETTO:+0200
TZNAME:CEST
DTSTART:20160327T010000
END:DAYLIGHT
BEGIN:STANDARD
TZOFFSETFROM:+0200
TZOFFSETTO:+0100
TZNAME:CET
DTSTART:20161030T010000
END:STANDARD
END:VTIMEZONE
BEGIN:VEVENT
DTSTART;VALUE=DATE:20160617
DTEND;VALUE=DATE:20160619
DTSTAMP:20260420T093401
CREATED:20151223T152555Z
LAST-MODIFIED:20160202T083930Z
UID:4504-1466121600-1466294399@en.timbertech.eu
SUMMARY:Analysis and modeling of timber structures - Pavia
DESCRIPTION:The course covers the analysis and the modeling of the timber structures. \n
URL:https://en.timbertech.eu/event/analysis-and-modeling-of-timber-structures/
LOCATION:Eucentre
CATEGORIES:Course
END:VEVENT
END:VCALENDAR